BEGIN:VCALENDAR
VERSION:2.0
PRODID:ics
BEGIN:VEVENT
UID:69e769c4408ce
DTSTART;TZID=Asia/Bangkok:20260514T131500
SEQUENCE:0
TRANSP:OPAQUE
DTEND;TZID=Asia/Bangkok:20260514T131500
LOCATION:Time: 13.15 - 14.00 hrs.
SUMMARY:Opportunity Day Q1/2026
CLASS:PUBLIC
DESCRIPTION:By watching the broadcast live via SET’s website https://list
 ed-company-presentation.setgroup.or.th/oppday
X-ALT-DESC;FMTTYPE=text/html:By watching the broadcast live via SET&rsquo\;
 s website <a href=\"https://listed-company-presentation.setgroup.or.th/opp
 day\" target=\"_blank\">https://listed-company-presentation.setgroup.or.th
 /oppday</a>
DTSTAMP:20260421T121252Z
END:VEVENT
END:VCALENDAR